BEGIN:VCALENDAR
VERSION:2.0
PRODID:-//Little Italy Cleveland - ECPv6.15.20//NONSGML v1.0//EN
CALSCALE:GREGORIAN
METHOD:PUBLISH
X-WR-CALNAME:Little Italy Cleveland
X-ORIGINAL-URL:https://littleitalycle.com
X-WR-CALDESC:Events for Little Italy Cleveland
REFRESH-INTERVAL;VALUE=DURATION:PT1H
X-Robots-Tag:noindex
X-PUBLISHED-TTL:PT1H
BEGIN:VTIMEZONE
TZID:UTC
BEGIN:STANDARD
TZOFFSETFROM:+0000
TZOFFSETTO:+0000
TZNAME:UTC
DTSTART:20240101T000000
END:STANDARD
END:VTIMEZONE
BEGIN:VEVENT
DTSTART;TZID=UTC:20250515T180000
DTEND;TZID=UTC:20250515T180000
DTSTAMP:20260419T204401
CREATED:20221107T195913Z
LAST-MODIFIED:20250515T173706Z
UID:3088-1747332000-1747332000@littleitalycle.com
SUMMARY:Little Italy Tripe Dinner
DESCRIPTION:Mangia! Mangia! – Time to Eat! \nThe Little Italy Redevelopment Corporation is hosting the Annual Tripe Dinner Fundraiser on Thursday\, May 15th\, 2025 at Holy Rosary Church Hall starting at 6pm. Each ticket includes all you can eat pasta\, chicken cutlet\, tripe\, salad\, dessert & unlimited beer/wine! Tickets are $70 and your contributions are instrumental to give us the capacity to carry out the mission and values of the Little Italy Redevelopment Corporation\, in turn\, this helps to sustain and create an optimistic view for our Little Italy community for years to come. \n \nYour contributions are instrumental to give us the capacity to carry out the mission and values of the Little Italy Redevelopment Corporation\, in turn\, this helps to sustain and create an optimistic view for our Little Italy community for years to come. \nPlease contact Joe Marinucci at joe@littleitalycle.com or (216) 410-7535 to register. \nEvent is SOLD OUT
URL:https://littleitalycle.com/event/3088/
LOCATION:Holy Rosary Church\, 12021 Mayfield Rd\, Cleveland\, Ohio\, 44106
CATEGORIES:Event
ATTACH;FMTTYPE=image/jpeg:https://littleitalycle.com/wp-content/uploads/2022/11/Social_LIRC_Tripe-Dinner_Instagram.jpg
END:VEVENT
END:VCALENDAR