BEGIN:VCALENDAR
VERSION:2.0
PRODID:-//Little Italy Cleveland - ECPv6.15.20//NONSGML v1.0//EN
CALSCALE:GREGORIAN
METHOD:PUBLISH
X-WR-CALNAME:Little Italy Cleveland
X-ORIGINAL-URL:https://littleitalycle.com
X-WR-CALDESC:Events for Little Italy Cleveland
REFRESH-INTERVAL;VALUE=DURATION:PT1H
X-Robots-Tag:noindex
X-PUBLISHED-TTL:PT1H
BEGIN:VTIMEZONE
TZID:UTC
BEGIN:STANDARD
TZOFFSETFROM:+0000
TZOFFSETTO:+0000
TZNAME:UTC
DTSTART:20240101T000000
END:STANDARD
END:VTIMEZONE
BEGIN:VEVENT
DTSTART;TZID=UTC:20250510T073000
DTEND;TZID=UTC:20250510T073000
DTSTAMP:20260420T151333
CREATED:20250311T190244Z
LAST-MODIFIED:20250311T190244Z
UID:3767-1746862200-1746862200@littleitalycle.com
SUMMARY:Rocky Yuko Memorial 5K Run & Walk (RUN ROCK RUN!)
DESCRIPTION:Join Us for the third annual Rocky Yuko Memorial 5K Run & Walk (RUN ROCK RUN!) set for Saturday\, May 10\, 2025. \n\nRocky’s generosity touched countless lives – now it is our turn to honor him by being generous. Proceeds from the event will continue to help build the foundation to host this race in future years\, and also will enable Rocky’s family to continue his legacy of generosity as needs arise in the community. \nPURCHASE TICKETS TODAY
URL:https://littleitalycle.com/event/rocky-yuko-memorial-5k-run-walk-run-rock-run-2/
LOCATION:12117 Mayfield Road\, 12117 Mayfield Road\, Cleveland\, OH\, 44106\, United States
CATEGORIES:Event
ATTACH;FMTTYPE=image/jpeg:https://littleitalycle.com/wp-content/uploads/2022/04/Run-ROCK-Run.jpg
END:VEVENT
END:VCALENDAR