BEGIN:VCALENDAR
VERSION:2.0
PRODID:-//Little Italy Cleveland - ECPv6.15.20//NONSGML v1.0//EN
CALSCALE:GREGORIAN
METHOD:PUBLISH
X-ORIGINAL-URL:https://littleitalycle.com
X-WR-CALDESC:Events for Little Italy Cleveland
REFRESH-INTERVAL;VALUE=DURATION:PT1H
X-Robots-Tag:noindex
X-PUBLISHED-TTL:PT1H
BEGIN:VTIMEZONE
TZID:UTC
BEGIN:STANDARD
TZOFFSETFROM:+0000
TZOFFSETTO:+0000
TZNAME:UTC
DTSTART:20240101T000000
END:STANDARD
END:VTIMEZONE
BEGIN:VEVENT
DTSTART;TZID=UTC:20250502T090000
DTEND;TZID=UTC:20250503T160000
DTSTAMP:20260420T170531
CREATED:20250404T214510Z
LAST-MODIFIED:20250404T214510Z
UID:3776-1746176400-1746288000@littleitalycle.com
SUMMARY:Cleveland Montessori Rummage Sale
DESCRIPTION:Stop by to browse all the great items and find hidden treasures – housewares\, toys\, art\, furniture and more!\n \nFriday\, May 2nd 9am-4pm and Saturday\, May 3rd 8:00-4:00 in the Alta House Gym (12510 Mayfield Rd\, Cleveland\, OH 44106).\n\nDonations are also being accepted April 22nd-May 1.  Please contact the school (216-421-0700) to arrange drop off or pick up of your items.\n\nWe are accepting:  furniture\, toys\, sports equipment\, baby items\, dishes\, housewares\, art\, crafts\, tools\, small appliances\, etc.  We can not take: clothing\, mattresses or books.
URL:https://littleitalycle.com/event/cleveland-montessori-rummage-sale-2/
LOCATION:12510 Mayfield Rd. Cleveland\, Ohio 44106
CATEGORIES:Event
ATTACH;FMTTYPE=image/png:https://littleitalycle.com/wp-content/uploads/2025/04/Rummage-Sale-4-1.png
END:VEVENT
END:VCALENDAR