BEGIN:VCALENDAR
VERSION:2.0
PRODID:-//Little Italy Cleveland - ECPv6.15.20//NONSGML v1.0//EN
CALSCALE:GREGORIAN
METHOD:PUBLISH
X-ORIGINAL-URL:https://littleitalycle.com
X-WR-CALDESC:Events for Little Italy Cleveland
REFRESH-INTERVAL;VALUE=DURATION:PT1H
X-Robots-Tag:noindex
X-PUBLISHED-TTL:PT1H
BEGIN:VTIMEZONE
TZID:UTC
BEGIN:STANDARD
TZOFFSETFROM:+0000
TZOFFSETTO:+0000
TZNAME:UTC
DTSTART:20230101T000000
END:STANDARD
END:VTIMEZONE
BEGIN:VEVENT
DTSTART;VALUE=DATE:20240303
DTEND;VALUE=DATE:20241230
DTSTAMP:20260421T172703
CREATED:20240229T214445Z
LAST-MODIFIED:20240229T214455Z
UID:3521-1709424000-1735516799@littleitalycle.com
SUMMARY:Little Italy Food Tours
DESCRIPTION:The ethnic enclave has been the home of Italian culture and cuisine for over a century\, and today brings together the historic and contemporary as one of hottest neighborhoods in Cleveland. Programming brought to you by Taste Cleveland Food Tours. \n \nOur Little Italy Food Tour will explore the Cleveland Italian culture that has existed for generations; its people\, its philosophies\, and most importantly its food. We will enjoy specialized dishes from a variety of restaurants; some long standing\, some new to the area\, while we take time to appreciate the contributions of Cleveland’s rich Italian culture. \nLEARN MORE
URL:https://littleitalycle.com/event/little-italy-food-tours/
CATEGORIES:Event
ATTACH;FMTTYPE=image/jpeg:https://littleitalycle.com/wp-content/uploads/2024/02/6997.jpg
END:VEVENT
BEGIN:VEVENT
DTSTART;VALUE=DATE:20240316
DTEND;VALUE=DATE:20240505
DTSTAMP:20260421T172703
CREATED:20240229T213510Z
LAST-MODIFIED:20240229T213515Z
UID:3517-1710547200-1714867199@littleitalycle.com
SUMMARY:Explore Italy: Regional Cuisine\, Culture\, and Language (Session IV - Spring 2024)
DESCRIPTION:Explore Italy’s regional cuisine\, culture\, and language with Dr. Paola Basile\, Professor of Italian Studies\, Lake Erie College. \nThe Classes: During the 6-class seminar\, attendees will explore various facets of five different Italian regions\, including the language\, culture\, food\, and wines\, with Dr. Paola Basile\, a native of Italy and Professor of Italian Studies at Lake Erie College in Painesville\, Ohio. \nEach class will feature a different Italian region. The first part of the class will be a presentation on and discussion about the region’s culture and language. During the second part of class\, attendees will have the opportunity to taste regional wines and sample regional cuisine as prepared by Little Italy chefs. \nLEARN MORE
URL:https://littleitalycle.com/event/explore-italy-regional-cuisine-culture-and-language-session-iv-spring-2024/
LOCATION:Italian American Museum of Cleveland\, 12111 Mayfield Road\, Cleveland\, 44106\, United States
CATEGORIES:Event
ATTACH;FMTTYPE=image/webp:https://littleitalycle.com/wp-content/uploads/2024/02/rsw_400h_533cg_true-1.webp
END:VEVENT
END:VCALENDAR