BEGIN:VCALENDAR
VERSION:2.0
PRODID:-//Little Italy Cleveland - ECPv6.15.20//NONSGML v1.0//EN
CALSCALE:GREGORIAN
METHOD:PUBLISH
X-ORIGINAL-URL:https://littleitalycle.com
X-WR-CALDESC:Events for Little Italy Cleveland
REFRESH-INTERVAL;VALUE=DURATION:PT1H
X-Robots-Tag:noindex
X-PUBLISHED-TTL:PT1H
BEGIN:VTIMEZONE
TZID:UTC
BEGIN:STANDARD
TZOFFSETFROM:+0000
TZOFFSETTO:+0000
TZNAME:UTC
DTSTART:20220101T000000
END:STANDARD
END:VTIMEZONE
BEGIN:VEVENT
DTSTART;TZID=UTC:20231017T180000
DTEND;TZID=UTC:20231017T180000
DTSTAMP:20260422T170311
CREATED:20231010T150631Z
LAST-MODIFIED:20231010T150804Z
UID:3309-1697565600-1697565600@littleitalycle.com
SUMMARY:Little Italy Annual Membership Meeting
DESCRIPTION:Please plan to join us on Tuesday\, October 17th at 6:00 pm in Holy Rosary Church Hall for the Little Italy Redevelopment Corporation ( LIRC ) Annual Membership Meeting.\n\nLIRC President Angela Spitalieri Ianiro and Executive Director Joe Marinucci will be reviewing LIRC’s accomplishments this past year and will preview our priorities going forward. \nCouncil President Blaine Griffin will be with us to discuss current challenges and opportunities facing the City of Cleveland and their impact on our neighborhood. \nIn addition\, LIRC will be conducting a short business meeting to elect directors for the coming year. \nTo renew your LIRC membership\, please fill out the attached membership form and forward it and your membership dues to LIRC offices at 12010 Mayfield Road\, 44106 or bring the form with you to the meeting. LIRC_MembershipCard_2023 \nYour continued support of our work is vitally important and we look forward to seeing you on the 17th!
URL:https://littleitalycle.com/event/little-italy-annual-membership-meeting/
LOCATION:Holy Rosary Church\, 12021 Mayfield Rd\, Cleveland\, Ohio\, 44106
CATEGORIES:Event
ATTACH;FMTTYPE=image/jpeg:https://littleitalycle.com/wp-content/uploads/2023/10/qtq80-uJC7ML.jpeg
END:VEVENT
END:VCALENDAR