BEGIN:VCALENDAR
VERSION:2.0
PRODID:-//Little Italy Cleveland - ECPv6.15.20//NONSGML v1.0//EN
CALSCALE:GREGORIAN
METHOD:PUBLISH
X-WR-CALNAME:Little Italy Cleveland
X-ORIGINAL-URL:https://littleitalycle.com
X-WR-CALDESC:Events for Little Italy Cleveland
REFRESH-INTERVAL;VALUE=DURATION:PT1H
X-Robots-Tag:noindex
X-PUBLISHED-TTL:PT1H
BEGIN:VTIMEZONE
TZID:UTC
BEGIN:STANDARD
TZOFFSETFROM:+0000
TZOFFSETTO:+0000
TZNAME:UTC
DTSTART:20220101T000000
END:STANDARD
END:VTIMEZONE
BEGIN:VEVENT
DTSTART;TZID=UTC:20230812T120000
DTEND;TZID=UTC:20230815T220000
DTSTAMP:20260422T201211
CREATED:20210715T200248Z
LAST-MODIFIED:20230302T052802Z
UID:2406-1691841600-1692136800@littleitalycle.com
SUMMARY:Feast of the Assumption
DESCRIPTION:For the past 122 years\, the Parish of Holy Rosary has hosted the celebration of Feast of the Assumption in Cleveland’s Little Italy neighborhood\, located on Mayfield Road near University Circle (with the exception of 2020 due to the coronavirus pandemic). \n \nThe Assumption of the Blessed Virgin Mary\, a Catholic Holy Day on August 15\, commemorates Mary being taken into Heaven. A solemn Mass is celebrated in the Church at 10:00 a.m.\, after which the statue of the Virgin Mary is taken in procession throughout the neighborhood. During the four days of festivities\, booths are set up in the Churchyard featuring Italian foods\, desserts\, live music and rides for young children. Independent vendors also have booths on the street. The Rosary is prayed daily at 6:00 p.m. at the shrine to Our Lady of the Assumption\, located on the east side of the church and a religious articles booth is located near the shrine. On the final evening of the Feast a candlelight procession is held to honor Mary. A short prayer service concludes our tribute to God for all the good He has done through the intercession of Mary\, the Mother of Jesus. The Feast is a celebration of the Gospel of Life\, Faith and Family. \nAdditional Feast of the Assumption 2023 Information: https://holy-rosary.org/schedule-of-events \nLittle Italy Parking Information: https://littleitalycle.com/get-here/
URL:https://littleitalycle.com/event/feast-of-the-assumption/
LOCATION:Holy Rosary Church\, 12021 Mayfield Rd\, Cleveland\, Ohio\, 44106
CATEGORIES:Event
ATTACH;FMTTYPE=image/jpeg:https://littleitalycle.com/wp-content/uploads/2021/07/Feast.jpg
END:VEVENT
END:VCALENDAR