BEGIN:VCALENDAR
VERSION:2.0
PRODID:-//Little Italy Cleveland - ECPv6.15.20//NONSGML v1.0//EN
CALSCALE:GREGORIAN
METHOD:PUBLISH
X-WR-CALNAME:Little Italy Cleveland
X-ORIGINAL-URL:https://littleitalycle.com
X-WR-CALDESC:Events for Little Italy Cleveland
REFRESH-INTERVAL;VALUE=DURATION:PT1H
X-Robots-Tag:noindex
X-PUBLISHED-TTL:PT1H
BEGIN:VTIMEZONE
TZID:UTC
BEGIN:STANDARD
TZOFFSETFROM:+0000
TZOFFSETTO:+0000
TZNAME:UTC
DTSTART:20220101T000000
END:STANDARD
END:VTIMEZONE
BEGIN:VEVENT
DTSTART;TZID=UTC:20230721T170000
DTEND;TZID=UTC:20230723T233000
DTSTAMP:20260422T215227
CREATED:20230302T051742Z
LAST-MODIFIED:20230302T052821Z
UID:3183-1689958800-1690155000@littleitalycle.com
SUMMARY:JAC Bocce Tournament - 32nd Annual
DESCRIPTION:This tournament is a fundraiser for the Alta House in memory of John Anthony Cipullo\, and it is the 32nd JAC tournament fundraiser since its establishment in May of 1992. So come out\, support a great cause\, and cheer on your favorite bocce teams as they compete for the title of champion. \nGet ready for an exciting weekend of bocce at the 2023 JAC Bocce Tournament\, held at the beautiful Alta House in historic Little Italy Cleveland\, Ohio. The tournament will take place from July 21st to July 23rd\, starting at 5 pm on Friday and running until midnight\, and on Saturday from 8 am to midnight. Sunday’s schedule is yet to be determined. \nThis event is open to the public and free for all spectators to attend. While enjoying the games\, you can also take advantage of the cash bar\, and enjoy delicious food for a donation. \nThe atmosphere at the Alta House will be electrifying with the sound of laughter and cheers echoing around the bocce courts. There will be plenty of opportunities to socialize\, meet new people\, and enjoy the vibrant Little Italy community.\nDon’t miss out on this exciting event that combines fun\, sportsmanship\, and charity all in one place. Mark your calendars for the 2023 JAC Bocce Tournament and join us for a weekend of fun-filled action. \nLittle Italy Parking Information: https://littleitalycle.com/get-here/
URL:https://littleitalycle.com/event/jac-bocce-tournament-32nd-annual/
LOCATION:Alta House\, 12510 Mayfield Rd.\, Cleveland\, OH\, 44106\, United States
CATEGORIES:Event
ATTACH;FMTTYPE=image/jpeg:https://littleitalycle.com/wp-content/uploads/2023/03/istockphoto-179244728-612x612-1.jpg
END:VEVENT
END:VCALENDAR