BEGIN:VCALENDAR
VERSION:2.0
PRODID:-//Little Italy Cleveland - ECPv6.15.20//NONSGML v1.0//EN
CALSCALE:GREGORIAN
METHOD:PUBLISH
X-ORIGINAL-URL:https://littleitalycle.com
X-WR-CALDESC:Events for Little Italy Cleveland
REFRESH-INTERVAL;VALUE=DURATION:PT1H
X-Robots-Tag:noindex
X-PUBLISHED-TTL:PT1H
BEGIN:VTIMEZONE
TZID:UTC
BEGIN:STANDARD
TZOFFSETFROM:+0000
TZOFFSETTO:+0000
TZNAME:UTC
DTSTART:20220101T000000
END:STANDARD
END:VTIMEZONE
BEGIN:VEVENT
DTSTART;TZID=UTC:20231201T200000
DTEND;TZID=UTC:20231201T200000
DTSTAMP:20260422T120822
CREATED:20231028T224335Z
LAST-MODIFIED:20231028T224336Z
UID:3322-1701460800-1701460800@littleitalycle.com
SUMMARY:(NEW!) Presti’s Bakery Mural Exhibit
DESCRIPTION:(NEW FOR 2023!) Presti’s Bakery Mural “Happy Feast” by Tara Seibel\, Viewing & Art Exhibit – Friday\, December 1st 2023 at 8:00pm. Artist statement in the bakery at 8:00pm. Complimentary Henna by Cleveland Henna\, Mandolin Music by Mark Delia.
URL:https://littleitalycle.com/event/new-prestis-bakery-mural-exhibit/
LOCATION:Presti’s Bakery\, 12101 Mayfield Rd\, Cleveland\, OH\, 44106\, United States
CATEGORIES:Event
ATTACH;FMTTYPE=image/png:https://littleitalycle.com/wp-content/uploads/2023/10/Prestis-Mural-Postcard-flat-1.png
END:VEVENT
END:VCALENDAR